BEGIN:VCALENDAR
VERSION:2.0
PRODID:-//Sea Coast Gardens Condominiums - ECPv6.15.20//NONSGML v1.0//EN
CALSCALE:GREGORIAN
METHOD:PUBLISH
X-WR-CALNAME:Sea Coast Gardens Condominiums
X-ORIGINAL-URL:https://seacoastgardens.com
X-WR-CALDESC:Events for Sea Coast Gardens Condominiums
REFRESH-INTERVAL;VALUE=DURATION:PT1H
X-Robots-Tag:noindex
X-PUBLISHED-TTL:PT1H
BEGIN:VTIMEZONE
TZID:America/New_York
BEGIN:DAYLIGHT
TZOFFSETFROM:-0500
TZOFFSETTO:-0400
TZNAME:EDT
DTSTART:20230312T070000
END:DAYLIGHT
BEGIN:STANDARD
TZOFFSETFROM:-0400
TZOFFSETTO:-0500
TZNAME:EST
DTSTART:20231105T060000
END:STANDARD
BEGIN:DAYLIGHT
TZOFFSETFROM:-0500
TZOFFSETTO:-0400
TZNAME:EDT
DTSTART:20240310T070000
END:DAYLIGHT
BEGIN:STANDARD
TZOFFSETFROM:-0400
TZOFFSETTO:-0500
TZNAME:EST
DTSTART:20241103T060000
END:STANDARD
BEGIN:DAYLIGHT
TZOFFSETFROM:-0500
TZOFFSETTO:-0400
TZNAME:EDT
DTSTART:20250309T070000
END:DAYLIGHT
BEGIN:STANDARD
TZOFFSETFROM:-0400
TZOFFSETTO:-0500
TZNAME:EST
DTSTART:20251102T060000
END:STANDARD
END:VTIMEZONE
BEGIN:VEVENT
DTSTART;TZID=America/New_York:20240827T190000
DTEND;TZID=America/New_York:20240827T210000
DTSTAMP:20260424T143918
CREATED:20240822T210828Z
LAST-MODIFIED:20240822T210828Z
UID:10004658-1724785200-1724792400@seacoastgardens.com
SUMMARY:SCG3 BOARD OF DIRECTORS MEETING
DESCRIPTION:NOTICE TO SCG3  ASSOCIATION OF   BOARD OF DIRECTORS MEETING \nNotice is hereby given pursuant to the Florida Statutes and the Governing Documents of Sea Coast Gardens 3 (Association) that a  Meeting of the Board of Directors of the Association will be held at the following date\, time\, and place: \nPosted: 08/22/24\nLocation: SeaCoast 3 bulletin board located in clubhouse outside of the office. \nDate of Meeting:   Tuesday August 27\, 2024\nTime of Meeting:   7PM  EST\nPlace of Meeting:  Via Zoom \nSeaCoast Gardens 3 Board of Directors Meeting via Zoom \nAGENDA: \nCall to Order \nVerification of Quorum \nProof of Proper Notice of Meeting \nOwner Comments \nApproval of Previous Minutes \nApproval of Sale of unit 317 \nSeawall Project Update \nPaver Project Update \nTreasurer Report \nLandscaping on Front Entrance Walland Parking Lot \nEntrance Sign Discussion \nParking Lot Resurfacing Review \nFirst Floor Walkway Coating \nSet Date for 2025 Budget Discussion \nAdjourn \nJoin Zoom Meeting\nhttps://us02web.zoom.us/j/84281293655?pwd=YvHE7HjF7b7VJGm8BIuGDwkZkVXuDK.1 \nMeeting ID: 842 8129 3655\nPasscode: 111399\n—\nOne tap mobile\n+13052241968\,\,84281293655#\,\,\,\,*111399# US\n+13017158592\,\,84281293655#\,\,\,\,*111399# US (Washington DC)\n—\nDial by your location\n• +1 305 224 1968 US\n• +1 301 715 8592 US (Washington DC)\n• +1 309 205 3325 US\n• +1 312 626 6799 US (Chicago)\n• +1 646 931 3860 US\n• +1 929 205 6099 US (New York)\n• +1 346 248 7799 US (Houston)\n• +1 360 209 5623 US\n• +1 386 347 5053 US\n• +1 507 473 4847 US\n• +1 564 217 2000 US\n• +1 669 444 9171 US\n• +1 669 900 6833 US (San Jose)\n• +1 689 278 1000 US\n• +1 719 359 4580 US\n• +1 253 205 0468 US\n• +1 253 215 8782 US (Tacoma) \nMeeting ID: 842 8129 3655\nPasscode: 111399 \nFind your local number: https://us02web.zoom.us/u/kApvqiLS8
URL:https://seacoastgardens.com/event/scg3-board-of-directors-meeting/
END:VEVENT
BEGIN:VEVENT
DTSTART;TZID=America/New_York:20240827T000000
DTEND;TZID=America/New_York:20240827T005900
DTSTAMP:20260424T143918
CREATED:20240514T092047Z
LAST-MODIFIED:20240627T001635Z
UID:10004644-1724716800-1724720340@seacoastgardens.com
SUMMARY:Sea Wall Construction
DESCRIPTION:The end date will be driven by the tides and weather on weekdays… Please plan accordingly
URL:https://seacoastgardens.com/event/sea-wall-construction-until-august/2024-08-27/
CATEGORIES:Sea Wall Construction
END:VEVENT
BEGIN:VEVENT
DTSTART;TZID=America/New_York:20240826T000000
DTEND;TZID=America/New_York:20240826T005900
DTSTAMP:20260424T143918
CREATED:20240514T092047Z
LAST-MODIFIED:20240627T001635Z
UID:10004643-1724630400-1724633940@seacoastgardens.com
SUMMARY:Sea Wall Construction
DESCRIPTION:The end date will be driven by the tides and weather on weekdays… Please plan accordingly
URL:https://seacoastgardens.com/event/sea-wall-construction-until-august/2024-08-26/
CATEGORIES:Sea Wall Construction
END:VEVENT
BEGIN:VEVENT
DTSTART;TZID=America/New_York:20240825T190000
DTEND;TZID=America/New_York:20240825T210000
DTSTAMP:20260424T143918
CREATED:20240822T204458Z
LAST-MODIFIED:20240822T204458Z
UID:10004657-1724612400-1724619600@seacoastgardens.com
SUMMARY:COMMON PROPERTY COMMITTEE MEETING (CPC)
DESCRIPTION:NOTICE TO SCG2 AND SCG3 OF COMMON PROPERTY COMMITTEE MEETING \nNotice is hereby given pursuant to the Florida Statutes and the Governing documents of Sea Coast Gardens 2 & 3 (Association) that a Meeting of the Common Property Committee  will be held at the following date\, time\, and place: \nPosted: 08/22/24\nLocation: SeaCoast 2 & 3 bulletin board located in clubhouse outside of the office. \nDate of Meeting: Sunday August 25\, 2024\nTime of Meeting:   7:00 PM EST\nPlace of Meeting:  Via Zoom \n\n\n\n\n\n\n\n\nAgenda\n\nWall Block\nFlag Pole Area\nSignage\nLandscaping\nPatio Benches\n\n\n\n\nJoin Zoom Meeting\nhttps://us02web.zoom.us/j/85058702871?pwd=5hRkFYZJyBXSnjyzJ8EulNxPz0uFWX.1 \nMeeting ID: 850 5870 2871\nPasscode: 684832 \n— \nOne tap mobile\n+13052241968\,\,85058702871#\,\,\,\,*684832# US\n+19292056099\,\,85058702871#\,\,\,\,*684832# US (New York) \n— \nDial by your location\n• +1 305 224 1968 US\n• +1 929 205 6099 US (New York)\n• +1 301 715 8592 US (Washington DC)\n• +1 309 205 3325 US\n• +1 312 626 6799 US (Chicago)\n• +1 646 931 3860 US\n• +1 253 215 8782 US (Tacoma)\n• +1 346 248 7799 US (Houston)\n• +1 360 209 5623 US\n• +1 386 347 5053 US\n• +1 507 473 4847 US\n• +1 564 217 2000 US\n• +1 669 444 9171 US\n• +1 669 900 6833 US (San Jose)\n• +1 689 278 1000 US\n• +1 719 359 4580 US\n• +1 253 205 0468 US \nMeeting ID: 850 5870 2871\nPasscode: 684832 \nFind your local number: https://us02web.zoom.us/u/keiIRfptS1
URL:https://seacoastgardens.com/event/common-property-committee-meeting-cpc/
END:VEVENT
BEGIN:VEVENT
DTSTART;TZID=America/New_York:20240825T000000
DTEND;TZID=America/New_York:20240825T005900
DTSTAMP:20260424T143918
CREATED:20240514T092047Z
LAST-MODIFIED:20240627T001635Z
UID:10004642-1724544000-1724547540@seacoastgardens.com
SUMMARY:Sea Wall Construction
DESCRIPTION:The end date will be driven by the tides and weather on weekdays… Please plan accordingly
URL:https://seacoastgardens.com/event/sea-wall-construction-until-august/2024-08-25/
CATEGORIES:Sea Wall Construction
END:VEVENT
BEGIN:VEVENT
DTSTART;TZID=America/New_York:20240824T000000
DTEND;TZID=America/New_York:20240824T005900
DTSTAMP:20260424T143918
CREATED:20240514T092047Z
LAST-MODIFIED:20240627T001635Z
UID:10004641-1724457600-1724461140@seacoastgardens.com
SUMMARY:Sea Wall Construction
DESCRIPTION:The end date will be driven by the tides and weather on weekdays… Please plan accordingly
URL:https://seacoastgardens.com/event/sea-wall-construction-until-august/2024-08-24/
CATEGORIES:Sea Wall Construction
END:VEVENT
BEGIN:VEVENT
DTSTART;TZID=America/New_York:20240823T000000
DTEND;TZID=America/New_York:20240823T005900
DTSTAMP:20260424T143918
CREATED:20240514T092047Z
LAST-MODIFIED:20240627T001635Z
UID:10004640-1724371200-1724374740@seacoastgardens.com
SUMMARY:Sea Wall Construction
DESCRIPTION:The end date will be driven by the tides and weather on weekdays… Please plan accordingly
URL:https://seacoastgardens.com/event/sea-wall-construction-until-august/2024-08-23/
CATEGORIES:Sea Wall Construction
END:VEVENT
BEGIN:VEVENT
DTSTART;TZID=America/New_York:20240822T000000
DTEND;TZID=America/New_York:20240822T005900
DTSTAMP:20260424T143918
CREATED:20240514T092047Z
LAST-MODIFIED:20240627T001635Z
UID:10004639-1724284800-1724288340@seacoastgardens.com
SUMMARY:Sea Wall Construction
DESCRIPTION:The end date will be driven by the tides and weather on weekdays… Please plan accordingly
URL:https://seacoastgardens.com/event/sea-wall-construction-until-august/2024-08-22/
CATEGORIES:Sea Wall Construction
END:VEVENT
BEGIN:VEVENT
DTSTART;TZID=America/New_York:20240821T000000
DTEND;TZID=America/New_York:20240821T005900
DTSTAMP:20260424T143918
CREATED:20240514T092047Z
LAST-MODIFIED:20240627T001635Z
UID:10004638-1724198400-1724201940@seacoastgardens.com
SUMMARY:Sea Wall Construction
DESCRIPTION:The end date will be driven by the tides and weather on weekdays… Please plan accordingly
URL:https://seacoastgardens.com/event/sea-wall-construction-until-august/2024-08-21/
CATEGORIES:Sea Wall Construction
END:VEVENT
BEGIN:VEVENT
DTSTART;TZID=America/New_York:20240820T000000
DTEND;TZID=America/New_York:20240820T005900
DTSTAMP:20260424T143918
CREATED:20240514T092047Z
LAST-MODIFIED:20240627T001635Z
UID:10004637-1724112000-1724115540@seacoastgardens.com
SUMMARY:Sea Wall Construction
DESCRIPTION:The end date will be driven by the tides and weather on weekdays… Please plan accordingly
URL:https://seacoastgardens.com/event/sea-wall-construction-until-august/2024-08-20/
CATEGORIES:Sea Wall Construction
END:VEVENT
BEGIN:VEVENT
DTSTART;TZID=America/New_York:20240819T000000
DTEND;TZID=America/New_York:20240819T005900
DTSTAMP:20260424T143918
CREATED:20240514T092047Z
LAST-MODIFIED:20240627T001635Z
UID:10004636-1724025600-1724029140@seacoastgardens.com
SUMMARY:Sea Wall Construction
DESCRIPTION:The end date will be driven by the tides and weather on weekdays… Please plan accordingly
URL:https://seacoastgardens.com/event/sea-wall-construction-until-august/2024-08-19/
CATEGORIES:Sea Wall Construction
END:VEVENT
BEGIN:VEVENT
DTSTART;TZID=America/New_York:20240818T000000
DTEND;TZID=America/New_York:20240818T005900
DTSTAMP:20260424T143918
CREATED:20240514T092047Z
LAST-MODIFIED:20240627T001635Z
UID:10004635-1723939200-1723942740@seacoastgardens.com
SUMMARY:Sea Wall Construction
DESCRIPTION:The end date will be driven by the tides and weather on weekdays… Please plan accordingly
URL:https://seacoastgardens.com/event/sea-wall-construction-until-august/2024-08-18/
CATEGORIES:Sea Wall Construction
END:VEVENT
BEGIN:VEVENT
DTSTART;TZID=America/New_York:20240817T000000
DTEND;TZID=America/New_York:20240817T005900
DTSTAMP:20260424T143918
CREATED:20240514T092047Z
LAST-MODIFIED:20240627T001635Z
UID:10004634-1723852800-1723856340@seacoastgardens.com
SUMMARY:Sea Wall Construction
DESCRIPTION:The end date will be driven by the tides and weather on weekdays… Please plan accordingly
URL:https://seacoastgardens.com/event/sea-wall-construction-until-august/2024-08-17/
CATEGORIES:Sea Wall Construction
END:VEVENT
BEGIN:VEVENT
DTSTART;TZID=America/New_York:20240816T000000
DTEND;TZID=America/New_York:20240816T005900
DTSTAMP:20260424T143918
CREATED:20240514T092047Z
LAST-MODIFIED:20240627T001635Z
UID:10004633-1723766400-1723769940@seacoastgardens.com
SUMMARY:Sea Wall Construction
DESCRIPTION:The end date will be driven by the tides and weather on weekdays… Please plan accordingly
URL:https://seacoastgardens.com/event/sea-wall-construction-until-august/2024-08-16/
CATEGORIES:Sea Wall Construction
END:VEVENT
BEGIN:VEVENT
DTSTART;TZID=America/New_York:20240815T000000
DTEND;TZID=America/New_York:20240815T005900
DTSTAMP:20260424T143918
CREATED:20240514T092047Z
LAST-MODIFIED:20240627T001635Z
UID:10004632-1723680000-1723683540@seacoastgardens.com
SUMMARY:Sea Wall Construction
DESCRIPTION:The end date will be driven by the tides and weather on weekdays… Please plan accordingly
URL:https://seacoastgardens.com/event/sea-wall-construction-until-august/2024-08-15/
CATEGORIES:Sea Wall Construction
END:VEVENT
BEGIN:VEVENT
DTSTART;TZID=America/New_York:20240814T000000
DTEND;TZID=America/New_York:20240814T005900
DTSTAMP:20260424T143918
CREATED:20240514T092047Z
LAST-MODIFIED:20240627T001635Z
UID:10004631-1723593600-1723597140@seacoastgardens.com
SUMMARY:Sea Wall Construction
DESCRIPTION:The end date will be driven by the tides and weather on weekdays… Please plan accordingly
URL:https://seacoastgardens.com/event/sea-wall-construction-until-august/2024-08-14/
CATEGORIES:Sea Wall Construction
END:VEVENT
BEGIN:VEVENT
DTSTART;TZID=America/New_York:20240813T000000
DTEND;TZID=America/New_York:20240813T005900
DTSTAMP:20260424T143918
CREATED:20240514T092047Z
LAST-MODIFIED:20240627T001635Z
UID:10004630-1723507200-1723510740@seacoastgardens.com
SUMMARY:Sea Wall Construction
DESCRIPTION:The end date will be driven by the tides and weather on weekdays… Please plan accordingly
URL:https://seacoastgardens.com/event/sea-wall-construction-until-august/2024-08-13/
CATEGORIES:Sea Wall Construction
END:VEVENT
BEGIN:VEVENT
DTSTART;TZID=America/New_York:20240812T000000
DTEND;TZID=America/New_York:20240812T005900
DTSTAMP:20260424T143918
CREATED:20240514T092047Z
LAST-MODIFIED:20240627T001635Z
UID:10004629-1723420800-1723424340@seacoastgardens.com
SUMMARY:Sea Wall Construction
DESCRIPTION:The end date will be driven by the tides and weather on weekdays… Please plan accordingly
URL:https://seacoastgardens.com/event/sea-wall-construction-until-august/2024-08-12/
CATEGORIES:Sea Wall Construction
END:VEVENT
BEGIN:VEVENT
DTSTART;TZID=America/New_York:20240811T000000
DTEND;TZID=America/New_York:20240811T005900
DTSTAMP:20260424T143918
CREATED:20240514T092047Z
LAST-MODIFIED:20240627T001635Z
UID:10004628-1723334400-1723337940@seacoastgardens.com
SUMMARY:Sea Wall Construction
DESCRIPTION:The end date will be driven by the tides and weather on weekdays… Please plan accordingly
URL:https://seacoastgardens.com/event/sea-wall-construction-until-august/2024-08-11/
CATEGORIES:Sea Wall Construction
END:VEVENT
BEGIN:VEVENT
DTSTART;TZID=America/New_York:20240810T000000
DTEND;TZID=America/New_York:20240810T005900
DTSTAMP:20260424T143918
CREATED:20240514T092047Z
LAST-MODIFIED:20240627T001635Z
UID:10004627-1723248000-1723251540@seacoastgardens.com
SUMMARY:Sea Wall Construction
DESCRIPTION:The end date will be driven by the tides and weather on weekdays… Please plan accordingly
URL:https://seacoastgardens.com/event/sea-wall-construction-until-august/2024-08-10/
CATEGORIES:Sea Wall Construction
END:VEVENT
BEGIN:VEVENT
DTSTART;TZID=America/New_York:20240809T000000
DTEND;TZID=America/New_York:20240809T005900
DTSTAMP:20260424T143918
CREATED:20240514T092047Z
LAST-MODIFIED:20240627T001635Z
UID:10004626-1723161600-1723165140@seacoastgardens.com
SUMMARY:Sea Wall Construction
DESCRIPTION:The end date will be driven by the tides and weather on weekdays… Please plan accordingly
URL:https://seacoastgardens.com/event/sea-wall-construction-until-august/2024-08-09/
CATEGORIES:Sea Wall Construction
END:VEVENT
BEGIN:VEVENT
DTSTART;TZID=America/New_York:20240808T000000
DTEND;TZID=America/New_York:20240808T005900
DTSTAMP:20260424T143918
CREATED:20240514T092047Z
LAST-MODIFIED:20240627T001635Z
UID:10004625-1723075200-1723078740@seacoastgardens.com
SUMMARY:Sea Wall Construction
DESCRIPTION:The end date will be driven by the tides and weather on weekdays… Please plan accordingly
URL:https://seacoastgardens.com/event/sea-wall-construction-until-august/2024-08-08/
CATEGORIES:Sea Wall Construction
END:VEVENT
BEGIN:VEVENT
DTSTART;TZID=America/New_York:20240807T000000
DTEND;TZID=America/New_York:20240807T005900
DTSTAMP:20260424T143918
CREATED:20240514T092047Z
LAST-MODIFIED:20240627T001635Z
UID:10004624-1722988800-1722992340@seacoastgardens.com
SUMMARY:Sea Wall Construction
DESCRIPTION:The end date will be driven by the tides and weather on weekdays… Please plan accordingly
URL:https://seacoastgardens.com/event/sea-wall-construction-until-august/2024-08-07/
CATEGORIES:Sea Wall Construction
END:VEVENT
BEGIN:VEVENT
DTSTART;TZID=America/New_York:20240806T000000
DTEND;TZID=America/New_York:20240806T005900
DTSTAMP:20260424T143918
CREATED:20240514T092047Z
LAST-MODIFIED:20240627T001635Z
UID:10004623-1722902400-1722905940@seacoastgardens.com
SUMMARY:Sea Wall Construction
DESCRIPTION:The end date will be driven by the tides and weather on weekdays… Please plan accordingly
URL:https://seacoastgardens.com/event/sea-wall-construction-until-august/2024-08-06/
CATEGORIES:Sea Wall Construction
END:VEVENT
BEGIN:VEVENT
DTSTART;TZID=America/New_York:20240805T000000
DTEND;TZID=America/New_York:20240805T005900
DTSTAMP:20260424T143918
CREATED:20240514T092047Z
LAST-MODIFIED:20240627T001635Z
UID:10004622-1722816000-1722819540@seacoastgardens.com
SUMMARY:Sea Wall Construction
DESCRIPTION:The end date will be driven by the tides and weather on weekdays… Please plan accordingly
URL:https://seacoastgardens.com/event/sea-wall-construction-until-august/2024-08-05/
CATEGORIES:Sea Wall Construction
END:VEVENT
BEGIN:VEVENT
DTSTART;TZID=America/New_York:20240804T000000
DTEND;TZID=America/New_York:20240804T005900
DTSTAMP:20260424T143918
CREATED:20240514T092047Z
LAST-MODIFIED:20240627T001635Z
UID:10004621-1722729600-1722733140@seacoastgardens.com
SUMMARY:Sea Wall Construction
DESCRIPTION:The end date will be driven by the tides and weather on weekdays… Please plan accordingly
URL:https://seacoastgardens.com/event/sea-wall-construction-until-august/2024-08-04/
CATEGORIES:Sea Wall Construction
END:VEVENT
BEGIN:VEVENT
DTSTART;TZID=America/New_York:20240803T000000
DTEND;TZID=America/New_York:20240803T005900
DTSTAMP:20260424T143918
CREATED:20240514T092047Z
LAST-MODIFIED:20240627T001635Z
UID:10004620-1722643200-1722646740@seacoastgardens.com
SUMMARY:Sea Wall Construction
DESCRIPTION:The end date will be driven by the tides and weather on weekdays… Please plan accordingly
URL:https://seacoastgardens.com/event/sea-wall-construction-until-august/2024-08-03/
CATEGORIES:Sea Wall Construction
END:VEVENT
BEGIN:VEVENT
DTSTART;TZID=America/New_York:20240802T000000
DTEND;TZID=America/New_York:20240802T005900
DTSTAMP:20260424T143918
CREATED:20240514T092047Z
LAST-MODIFIED:20240627T001635Z
UID:10004619-1722556800-1722560340@seacoastgardens.com
SUMMARY:Sea Wall Construction
DESCRIPTION:The end date will be driven by the tides and weather on weekdays… Please plan accordingly
URL:https://seacoastgardens.com/event/sea-wall-construction-until-august/2024-08-02/
CATEGORIES:Sea Wall Construction
END:VEVENT
BEGIN:VEVENT
DTSTART;TZID=America/New_York:20240801T190000
DTEND;TZID=America/New_York:20240801T210000
DTSTAMP:20260424T143918
CREATED:20240730T125238Z
LAST-MODIFIED:20240730T125238Z
UID:10004656-1722538800-1722546000@seacoastgardens.com
SUMMARY:SCG2 Board Meeting
DESCRIPTION:NOTICE TO SCG2  ASSOCIATION OF   BOARD OF DIRECTORS MEETING \nNotice is hereby given pursuant to the Florida Statutes and the Governing Documents of Sea Coast Gardens 2 (Association) that a  Meeting of the Board of Directors of the Association will be held at the following date\, time\, and place: \nPosted: 07/29/24\nLocation: SeaCoast 2 bulletin board located in clubhouse outside of the office. \nDate of Meeting:   Thursday August 1\, 2024\nTime of Meeting:   7PM  EST\nPlace of Meeting:  Via Zoom \nSeaCoast Gardens 2 Board of Directors Meeting via Zoom \nAGENDA: \nCall to Order \nVerification of Quorum \nProof of Proper Notice of Meeting \nOwner Comments \nSeawall Project Update \nApproval of Previous Minutes \nApproval of Sale of unit 317 \nTreasurer Report \nBookkeeper \nPavers \nSchedule next meeting \nAdjourn \nJulie Clarke is inviting you to a scheduled Zoom meeting. \nJoin Zoom Meeting \nhttps://us06web.zoom.us/j/85675384019?pwd=jkISs6LxMYLE7qzJMD9HOSJOC1KMMs.1 \nMeeting ID: 856 7538 4019 \nPasscode: 476583 \n— \nOne tap mobile \n+13052241968\,\,85675384019#\,\,\,\,*476583# US \n+13092053325\,\,85675384019#\,\,\,\,*476583# US \n— \nDial by your location \n\n+1 305 224 1968 US\n+1 309 205 3325 US\n+1 312 626 6799 US (Chicago)\n+1 646 558 8656 US (New York)\n+1 646 931 3860 US\n+1 301 715 8592 US (Washington DC)\n+1 564 217 2000 US\n+1 669 444 9171 US\n+1 669 900 6833 US (San Jose)\n+1 689 278 1000 US\n+1 719 359 4580 US\n+1 253 205 0468 US\n+1 253 215 8782 US (Tacoma)\n+1 346 248 7799 US (Houston)\n+1 360 209 5623 US\n+1 386 347 5053 US\n+1 507 473 4847 US\n\nMeeting ID: 856 7538 4019 \nPasscode: 476583 \nFind your local number: https://us06web.zoom.us/u/kc86k38u3i
URL:https://seacoastgardens.com/event/scg2-board-meeting-2/
END:VEVENT
BEGIN:VEVENT
DTSTART;TZID=America/New_York:20240801T000000
DTEND;TZID=America/New_York:20240801T005900
DTSTAMP:20260424T143918
CREATED:20240514T092047Z
LAST-MODIFIED:20240627T001635Z
UID:10004618-1722470400-1722473940@seacoastgardens.com
SUMMARY:Sea Wall Construction
DESCRIPTION:The end date will be driven by the tides and weather on weekdays… Please plan accordingly
URL:https://seacoastgardens.com/event/sea-wall-construction-until-august/2024-08-01/
CATEGORIES:Sea Wall Construction
END:VEVENT
END:VCALENDAR